BEGIN:VCALENDAR
VERSION:2.0
PRODID:-//pretix//pretix.eu//
BEGIN:VTIMEZONE
TZID:Europe/Berlin
BEGIN:STANDARD
DTSTART:20001029T040000
RRULE:FREQ=YEARLY;BYDAY=-1SU;BYMONTH=10
TZNAME:CET
TZOFFSETFROM:+0200
TZOFFSETTO:+0100
END:STANDARD
BEGIN:DAYLIGHT
DTSTART:20000326T030000
RRULE:FREQ=YEARLY;BYDAY=-1SU;BYMONTH=3
TZNAME:CEST
TZOFFSETFROM:+0100
TZOFFSETTO:+0200
END:DAYLIGHT
END:VTIMEZONE
BEGIN:VEVENT
UID:pretix-ems-molto-vitale-4776712@tickets.emil-molt-schule.de
DTSTART;TZID=Europe/Berlin:20260110T160000
DTEND;TZID=Europe/Berlin:20260110T183000
DESCRIPTION:Tickets: https://tickets.emil-molt-schule.de/molto-vitale/47767
 12/\nEinlass: 10.01.2026 15:00\nVeranstalter: Emil-Molt-Schule
DTSTAMP:20260419T201255Z
LOCATION:Emil Molt Schule\, Claszeile 60\, 14165 Berlin
SUMMARY:Molto Vitale
END:VEVENT
END:VCALENDAR
